BEGIN:VCALENDAR
VERSION:2.0
PRODID:-//Abcsafety Brasil - Segurança do Trabalho e Higiene Ocupacional - ECPv6.15.18//NONSGML v1.0//EN
CALSCALE:GREGORIAN
METHOD:PUBLISH
X-WR-CALNAME:Abcsafety Brasil - Segurança do Trabalho e Higiene Ocupacional
X-ORIGINAL-URL:https://abcsafetybr.com.br
X-WR-CALDESC:Eventos para Abcsafety Brasil - Segurança do Trabalho e Higiene Ocupacional
REFRESH-INTERVAL;VALUE=DURATION:PT1H
X-Robots-Tag:noindex
X-PUBLISHED-TTL:PT1H
BEGIN:VTIMEZONE
TZID:UTC
BEGIN:STANDARD
TZOFFSETFROM:+0000
TZOFFSETTO:+0000
TZNAME:UTC
DTSTART:20240101T000000
END:STANDARD
END:VTIMEZONE
BEGIN:VEVENT
DTSTART;TZID=UTC:20260307T080000
DTEND;TZID=UTC:20260307T170000
DTSTAMP:20260423T145241
CREATED:20260303T185649Z
LAST-MODIFIED:20260303T215824Z
UID:1044-1772870400-1772902800@abcsafetybr.com.br
SUMMARY:Treinamento de NR 35 – Trabalho em Altura  - 07 de Março - Sábado
DESCRIPTION:Treinamento de NR 35 – Trabalho em Altura\nFormação obrigatória para quem atua acima de 2 metros \nData:  07 de Março de 2026\nHorário: 8h às 17h (8 horas de duração)\nLocal: Centro de Treinamento Abcsafety – Shopping Sulacap\nAv. Marechal Fontenele\, 3545 – Jardim Sulacap\, Rio de Janeiro – RJ \nProteja vidas. Esteja habilitado. \nO Trabalho em Altura é uma das atividades mais comuns — e mais arriscadas — em diversos setores da indústria e construção civil. Para garantir a segurança e atender às exigências da legislação\, o Treinamento de NR 35 é obrigatório para todos os profissionais que realizam atividades acima de 2 metros do nível inferior\, onde haja risco de queda. \nNeste curso\, você aprenderá na prática como se proteger e proteger sua equipe. Nossa formação é reconhecida e conduzida por instrutores qualificados\, em um ambiente seguro e estruturado. \nO que você vai aprender:\n✅ Procedimentos de análise de risco e medidas de prevenção\n✅ Técnicas de uso correto de Equipamentos de Proteção Individual (EPIs)\n✅ Noções de resgate e primeiros socorros\n✅ Exercícios práticos de movimentação e ancoragem \nPor que escolher a Abcsafety?\n✔️ Estrutura completa com área prática simulada\n✔️ Material didático atualizado e instrutores experientes\n✔️ Certificado válido conforme exigência da NR 35 \nGaranta sua vaga agora!\nAs turmas são limitadas para garantir a qualidade do treinamento. \n📲 Inscrições pelo WhatsApp: 21 98105-3129
URL:https://abcsafetybr.com.br/agenda/treinamento-de-nr-35-trabalho-em-altura-07-de-marco-sabado/
LOCATION:Abcsafety Brasil – Unidade de Treinamento\, Av. Marechal Fontenele\, 3545 Jardim Sulacap\, Rio de Janeiro\, Rio de Janeiro\, 21740-001\, Brazil
CATEGORIES:Treinamento NR 35 - Presencial
ATTACH;FMTTYPE=image/png:https://abcsafetybr.com.br/wp-content/uploads/2025/05/trabalho_em_altura_NR35.png
ORGANIZER;CN="Abcsafety Brasil":MAILTO:abcsafety@abcsafetybr.com.br
END:VEVENT
BEGIN:VEVENT
DTSTART;TZID=UTC:20260221T080000
DTEND;TZID=UTC:20260221T170000
DTSTAMP:20260423T145241
CREATED:20260214T170729Z
LAST-MODIFIED:20260214T200732Z
UID:1050-1771660800-1771693200@abcsafetybr.com.br
SUMMARY:Treinamento de NR 35 – Trabalho em Altura – 21 de Fevereiro – Sábado
DESCRIPTION:Treinamento de NR 35 – Trabalho em Altura\nFormação obrigatória para quem atua acima de 2 metros \nData: 21 de Fevereiro de 2026\nHorário: 8h às 17h (8 horas de duração)\nLocal: Centro de Treinamento Abcsafety – Shopping Sulacap\nAv. Marechal Fontenele\, 3545 – Jardim Sulacap\, Rio de Janeiro – RJ \nProteja vidas. Esteja habilitado.\nO Trabalho em Altura é uma das atividades mais comuns — e mais arriscadas — em diversos setores da indústria e construção civil. Para garantir a segurança e atender às exigências da legislação\, o Treinamento de NR 35 é obrigatório para todos os profissionais que realizam atividades acima de 2 metros do nível inferior\, onde haja risco de queda. \nNeste curso\, você aprenderá na prática como se proteger e proteger sua equipe. Nossa formação é reconhecida e conduzida por instrutores qualificados\, em um ambiente seguro e estruturado. \nO que você vai aprender:\n✅ Procedimentos de análise de risco e medidas de prevenção\n✅ Técnicas de uso correto de Equipamentos de Proteção Individual (EPIs)\n✅ Noções de resgate e primeiros socorros\n✅ Exercícios práticos de movimentação e ancoragem \nPor que escolher a Abcsafety?\n✔️ Estrutura completa com área prática simulada\n✔️ Material didático atualizado e instrutores experientes\n✔️ Certificado válido conforme exigência da NR 35 \nGaranta sua vaga agora!\nAs turmas são limitadas para garantir a qualidade do treinamento. \n📲 Inscrições pelo WhatsApp: 21 98105-3129
URL:https://abcsafetybr.com.br/agenda/treinamento-de-nr-35-trabalho-em-altura-16-de-agosto-sabado/
LOCATION:Abcsafety Brasil – Unidade de Treinamento\, Av. Marechal Fontenele\, 3545 Jardim Sulacap\, Rio de Janeiro\, Rio de Janeiro\, 21740-001\, Brazil
CATEGORIES:Treinamento NR 35 - Presencial
ATTACH;FMTTYPE=image/png:https://abcsafetybr.com.br/wp-content/uploads/2025/05/trabalho_em_altura_NR35.png
ORGANIZER;CN="Abcsafety Brasil":MAILTO:abcsafety@abcsafetybr.com.br
END:VEVENT
BEGIN:VEVENT
DTSTART;TZID=UTC:20251206T080000
DTEND;TZID=UTC:20251206T170000
DTSTAMP:20260423T145241
CREATED:20251127T161029Z
LAST-MODIFIED:20251127T190937Z
UID:1048-1765008000-1765040400@abcsafetybr.com.br
SUMMARY:Treinamento de NR 35 – Trabalho em Altura - 06 de Dezembro - Sábado
DESCRIPTION:Treinamento de NR 35 – Trabalho em Altura\nFormação obrigatória para quem atua acima de 2 metros \nData: 06 de Dezembro de 2025\nHorário: 8h às 17h (8 horas de duração)\nLocal: Centro de Treinamento Abcsafety – Shopping Sulacap\nAv. Marechal Fontenele\, 3545 – Jardim Sulacap\, Rio de Janeiro – RJ \nProteja vidas. Esteja habilitado.\nO Trabalho em Altura é uma das atividades mais comuns — e mais arriscadas — em diversos setores da indústria e construção civil. Para garantir a segurança e atender às exigências da legislação\, o Treinamento de NR 35 é obrigatório para todos os profissionais que realizam atividades acima de 2 metros do nível inferior\, onde haja risco de queda. \nNeste curso\, você aprenderá na prática como se proteger e proteger sua equipe. Nossa formação é reconhecida e conduzida por instrutores qualificados\, em um ambiente seguro e estruturado. \nO que você vai aprender:\n✅ Procedimentos de análise de risco e medidas de prevenção\n✅ Técnicas de uso correto de Equipamentos de Proteção Individual (EPIs)\n✅ Noções de resgate e primeiros socorros\n✅ Exercícios práticos de movimentação e ancoragem \nPor que escolher a Abcsafety?\n✔️ Estrutura completa com área prática simulada\n✔️ Material didático atualizado e instrutores experientes\n✔️ Certificado válido conforme exigência da NR 35 \nGaranta sua vaga agora!\nAs turmas são limitadas para garantir a qualidade do treinamento. \n📲 Inscrições pelo WhatsApp: 21 98105-3129
URL:https://abcsafetybr.com.br/agenda/treinamento-de-nr-35-trabalho-em-altura-22-de-agosto-sexta-feira/
LOCATION:Abcsafety Brasil – Unidade de Treinamento\, Av. Marechal Fontenele\, 3545 Jardim Sulacap\, Rio de Janeiro\, Rio de Janeiro\, 21740-001\, Brazil
CATEGORIES:Treinamento NR 35 - Presencial
ATTACH;FMTTYPE=image/png:https://abcsafetybr.com.br/wp-content/uploads/2025/05/trabalho_em_altura_NR35.png
ORGANIZER;CN="Abcsafety Brasil":MAILTO:abcsafety@abcsafetybr.com.br
END:VEVENT
BEGIN:VEVENT
DTSTART;TZID=UTC:20250510T080000
DTEND;TZID=UTC:20250510T170000
DTSTAMP:20260423T145241
CREATED:20250505T080007Z
LAST-MODIFIED:20250505T201801Z
UID:1038-1746864000-1746896400@abcsafetybr.com.br
SUMMARY:NR 35 - TRABALHO EM ALTURA - 10/05 - Sábado
DESCRIPTION:Treinamento de NR 35 – Trabalho em Altura\nFormação obrigatória para quem atua acima de 2 metros \nData: 10 de maio de 2025 – Sábado\nHorário: 8h às 17h (8 horas de duração)\nLocal: Centro de Treinamento Abcsafety – Shopping Sulacap\nAv. Marechal Fontenele\, 3545 – Jardim Sulacap\, Rio de Janeiro – RJ \nProteja vidas. Esteja habilitado. \nO Trabalho em Altura é uma das atividades mais comuns — e mais arriscadas — em diversos setores da indústria e construção civil. Para garantir a segurança e atender às exigências da legislação\, o Treinamento de NR 35 é obrigatório para todos os profissionais que realizam atividades acima de 2 metros do nível inferior\, onde haja risco de queda. \nNeste curso\, você aprenderá na prática como se proteger e proteger sua equipe. Nossa formação é reconhecida e conduzida por instrutores qualificados\, em um ambiente seguro e estruturado. \nO que você vai aprender: \n✅ Procedimentos de análise de risco e medidas de prevenção\n✅ Técnicas de uso correto de Equipamentos de Proteção Individual (EPIs)\n✅ Noções de resgate e primeiros socorros\n✅ Exercícios práticos de movimentação e ancoragem \nPor que escolher a Abcsafety? \n✔️ Estrutura completa com área prática simulada\n✔️ Material didático atualizado e instrutores experientes\n✔️ Certificado válido conforme exigência da NR 35 \nGaranta sua vaga agora!\nAs turmas são limitadas para garantir a qualidade do treinamento. \n📲 Inscrições pelo WhatsApp: 21 98105-3129
URL:https://abcsafetybr.com.br/agenda/nr-35-trabalho-em-altura-10-05-sabado/
LOCATION:Abcsafety Brasil – Unidade de Treinamento\, Av. Marechal Fontenele\, 3545 Jardim Sulacap\, Rio de Janeiro\, Rio de Janeiro\, 21740-001\, Brazil
CATEGORIES:Treinamento NR 35 - Presencial
ATTACH;FMTTYPE=image/png:https://abcsafetybr.com.br/wp-content/uploads/2025/05/trabalho_em_altura_NR35.png
ORGANIZER;CN="Abcsafety Brasil":MAILTO:abcsafety@abcsafetybr.com.br
END:VEVENT
END:VCALENDAR